BEGIN:VCALENDAR
VERSION:2.0
PRODID:-//VC Reken 1974 e.V. - ECPv6.15.20//NONSGML v1.0//EN
CALSCALE:GREGORIAN
METHOD:PUBLISH
X-WR-CALNAME:VC Reken 1974 e.V.
X-ORIGINAL-URL:https://vcreken.de
X-WR-CALDESC:Veranstaltungen für VC Reken 1974 e.V.
REFRESH-INTERVAL;VALUE=DURATION:PT1H
X-Robots-Tag:noindex
X-PUBLISHED-TTL:PT1H
BEGIN:VTIMEZONE
TZID:Europe/Berlin
BEGIN:DAYLIGHT
TZOFFSETFROM:+0100
TZOFFSETTO:+0200
TZNAME:CEST
DTSTART:20250330T010000
END:DAYLIGHT
BEGIN:STANDARD
TZOFFSETFROM:+0200
TZOFFSETTO:+0100
TZNAME:CET
DTSTART:20251026T010000
END:STANDARD
BEGIN:DAYLIGHT
TZOFFSETFROM:+0100
TZOFFSETTO:+0200
TZNAME:CEST
DTSTART:20260329T010000
END:DAYLIGHT
BEGIN:STANDARD
TZOFFSETFROM:+0200
TZOFFSETTO:+0100
TZNAME:CET
DTSTART:20261025T010000
END:STANDARD
BEGIN:DAYLIGHT
TZOFFSETFROM:+0100
TZOFFSETTO:+0200
TZNAME:CEST
DTSTART:20270328T010000
END:DAYLIGHT
BEGIN:STANDARD
TZOFFSETFROM:+0200
TZOFFSETTO:+0100
TZNAME:CET
DTSTART:20271031T010000
END:STANDARD
END:VTIMEZONE
BEGIN:VEVENT
DTSTART;TZID=Europe/Berlin:20260125T120000
DTEND;TZID=Europe/Berlin:20260125T131500
DTSTAMP:20260422T120321
CREATED:20251122T211830Z
LAST-MODIFIED:20251122T211830Z
UID:8797-1769342400-1769346900@vcreken.de
SUMMARY:Spieltag 3 der U14 w
DESCRIPTION:VC Reken Mädchen vs. RSV Borken Mädchen IISpieltag Nr. 3 der U14 w Zuhause
URL:https://vcreken.de/event/spieltag-3-der-u14-w/
LOCATION:Sporthalle Am Rathaus\, Kirchstraße 14\, Reken\, 48734\, Deutschland
CATEGORIES:Spieltag,U14 w
END:VEVENT
BEGIN:VEVENT
DTSTART;TZID=Europe/Berlin:20260125T140000
DTEND;TZID=Europe/Berlin:20260125T151500
DTSTAMP:20260422T120321
CREATED:20251122T211830Z
LAST-MODIFIED:20251122T211830Z
UID:8798-1769349600-1769354100@vcreken.de
SUMMARY:Spieltag 3 der U14 w
DESCRIPTION:VC Reken Mädchen vs. TuS Velen Mädchen IIISpieltag Nr. 3 der U14 w Zuhause
URL:https://vcreken.de/event/spieltag-3-der-u14-w-2/
LOCATION:Sporthalle Am Rathaus\, Kirchstraße 14\, Reken\, 48734\, Deutschland
CATEGORIES:Spieltag,U14 w
END:VEVENT
END:VCALENDAR