BEGIN:VCALENDAR
VERSION:2.0
PRODID:-//VC Reken 1974 e.V. - ECPv6.15.20//NONSGML v1.0//EN
CALSCALE:GREGORIAN
METHOD:PUBLISH
X-WR-CALNAME:VC Reken 1974 e.V.
X-ORIGINAL-URL:https://vcreken.de
X-WR-CALDESC:Veranstaltungen für VC Reken 1974 e.V.
REFRESH-INTERVAL;VALUE=DURATION:PT1H
X-Robots-Tag:noindex
X-PUBLISHED-TTL:PT1H
BEGIN:VTIMEZONE
TZID:Europe/Berlin
BEGIN:DAYLIGHT
TZOFFSETFROM:+0100
TZOFFSETTO:+0200
TZNAME:CEST
DTSTART:20240331T010000
END:DAYLIGHT
BEGIN:STANDARD
TZOFFSETFROM:+0200
TZOFFSETTO:+0100
TZNAME:CET
DTSTART:20241027T010000
END:STANDARD
BEGIN:DAYLIGHT
TZOFFSETFROM:+0100
TZOFFSETTO:+0200
TZNAME:CEST
DTSTART:20250330T010000
END:DAYLIGHT
BEGIN:STANDARD
TZOFFSETFROM:+0200
TZOFFSETTO:+0100
TZNAME:CET
DTSTART:20251026T010000
END:STANDARD
BEGIN:DAYLIGHT
TZOFFSETFROM:+0100
TZOFFSETTO:+0200
TZNAME:CEST
DTSTART:20260329T010000
END:DAYLIGHT
BEGIN:STANDARD
TZOFFSETFROM:+0200
TZOFFSETTO:+0100
TZNAME:CET
DTSTART:20261025T010000
END:STANDARD
END:VTIMEZONE
BEGIN:VEVENT
DTSTART;TZID=Europe/Berlin:20250309T120000
DTEND;TZID=Europe/Berlin:20250309T131500
DTSTAMP:20260423T234940
CREATED:20240917T195241Z
LAST-MODIFIED:20240917T195241Z
UID:7864-1741521600-1741526100@vcreken.de
SUMMARY:Spieltag 8 der Damen3
DESCRIPTION:VC Reken III vs. TuB Bocholt VSpieltag Nr. 8 der Damen3 auswärts bei TV Gescher II
URL:https://vcreken.de/event/spieltag-8-der-damen3-2/
LOCATION:von-Galen-Schule (neue Halle)\, Gescher\, 47182\, Deutschland
CATEGORIES:Damen3,Spieltag
END:VEVENT
BEGIN:VEVENT
DTSTART;TZID=Europe/Berlin:20250315T120000
DTEND;TZID=Europe/Berlin:20250315T131500
DTSTAMP:20260423T234940
CREATED:20240917T195246Z
LAST-MODIFIED:20240917T195246Z
UID:7865-1742040000-1742044500@vcreken.de
SUMMARY:Spieltag 9 der Damen3
DESCRIPTION:VC Reken III vs. DJK Eintracht Stadtlohn IIISpieltag Nr. 9 der Damen3 auswärts bei DJK Eintracht Stadtlohn III
URL:https://vcreken.de/event/spieltag-9-der-damen3-2/
LOCATION:Geschwister Scholl Gymnasium\, Stadtlohn\, 48703\, Deutschland
CATEGORIES:Damen3,Spieltag
END:VEVENT
BEGIN:VEVENT
DTSTART;TZID=Europe/Berlin:20250329T140000
DTEND;TZID=Europe/Berlin:20250329T151500
DTSTAMP:20260423T234940
CREATED:20240917T195246Z
LAST-MODIFIED:20240917T195246Z
UID:7866-1743256800-1743261300@vcreken.de
SUMMARY:Spieltag 10 der Damen3
DESCRIPTION:VC Reken III vs. TV Gescher IISpieltag Nr. 10 der Damen3 auswärts bei RSV Borken VIII
URL:https://vcreken.de/event/spieltag-10-der-damen3-2/
LOCATION:Doppelsporthalle Burlo\, Borken-Burlo\, 46325\, Deutschland
CATEGORIES:Damen3,Spieltag
END:VEVENT
END:VCALENDAR