BEGIN:VCALENDAR
VERSION:2.0
PRODID:-//VC Reken 1974 e.V. - ECPv6.15.20//NONSGML v1.0//EN
CALSCALE:GREGORIAN
METHOD:PUBLISH
X-WR-CALNAME:VC Reken 1974 e.V.
X-ORIGINAL-URL:https://vcreken.de
X-WR-CALDESC:Veranstaltungen für VC Reken 1974 e.V.
REFRESH-INTERVAL;VALUE=DURATION:PT1H
X-Robots-Tag:noindex
X-PUBLISHED-TTL:PT1H
BEGIN:VTIMEZONE
TZID:Europe/Berlin
BEGIN:DAYLIGHT
TZOFFSETFROM:+0100
TZOFFSETTO:+0200
TZNAME:CEST
DTSTART:20240331T010000
END:DAYLIGHT
BEGIN:STANDARD
TZOFFSETFROM:+0200
TZOFFSETTO:+0100
TZNAME:CET
DTSTART:20241027T010000
END:STANDARD
BEGIN:DAYLIGHT
TZOFFSETFROM:+0100
TZOFFSETTO:+0200
TZNAME:CEST
DTSTART:20250330T010000
END:DAYLIGHT
BEGIN:STANDARD
TZOFFSETFROM:+0200
TZOFFSETTO:+0100
TZNAME:CET
DTSTART:20251026T010000
END:STANDARD
BEGIN:DAYLIGHT
TZOFFSETFROM:+0100
TZOFFSETTO:+0200
TZNAME:CEST
DTSTART:20260329T010000
END:DAYLIGHT
BEGIN:STANDARD
TZOFFSETFROM:+0200
TZOFFSETTO:+0100
TZNAME:CET
DTSTART:20261025T010000
END:STANDARD
END:VTIMEZONE
BEGIN:VEVENT
DTSTART;TZID=Europe/Berlin:20250215T140000
DTEND;TZID=Europe/Berlin:20250215T151500
DTSTAMP:20260424T013745
CREATED:20240917T195241Z
LAST-MODIFIED:20240917T195241Z
UID:7863-1739628000-1739632500@vcreken.de
SUMMARY:Spieltag 7 der Damen3
DESCRIPTION:VC Reken III vs. RSV Borken VIIISpieltag Nr. 7 der Damen3 Zuhause
URL:https://vcreken.de/event/spieltag-7-der-damen3-2/
LOCATION:Sporthalle Am Rathaus\, Kirchstraße 14\, Reken\, 48734\, Deutschland
CATEGORIES:Damen3,Spieltag
END:VEVENT
END:VCALENDAR