BEGIN:VCALENDAR
VERSION:2.0
PRODID:-//VC Reken 1974 e.V. - ECPv6.15.20//NONSGML v1.0//EN
CALSCALE:GREGORIAN
METHOD:PUBLISH
X-ORIGINAL-URL:https://vcreken.de
X-WR-CALDESC:Veranstaltungen für VC Reken 1974 e.V.
REFRESH-INTERVAL;VALUE=DURATION:PT1H
X-Robots-Tag:noindex
X-PUBLISHED-TTL:PT1H
BEGIN:VTIMEZONE
TZID:Europe/Berlin
BEGIN:DAYLIGHT
TZOFFSETFROM:+0100
TZOFFSETTO:+0200
TZNAME:CEST
DTSTART:20240331T010000
END:DAYLIGHT
BEGIN:STANDARD
TZOFFSETFROM:+0200
TZOFFSETTO:+0100
TZNAME:CET
DTSTART:20241027T010000
END:STANDARD
BEGIN:DAYLIGHT
TZOFFSETFROM:+0100
TZOFFSETTO:+0200
TZNAME:CEST
DTSTART:20250330T010000
END:DAYLIGHT
BEGIN:STANDARD
TZOFFSETFROM:+0200
TZOFFSETTO:+0100
TZNAME:CET
DTSTART:20251026T010000
END:STANDARD
BEGIN:DAYLIGHT
TZOFFSETFROM:+0100
TZOFFSETTO:+0200
TZNAME:CEST
DTSTART:20260329T010000
END:DAYLIGHT
BEGIN:STANDARD
TZOFFSETFROM:+0200
TZOFFSETTO:+0100
TZNAME:CET
DTSTART:20261025T010000
END:STANDARD
END:VTIMEZONE
BEGIN:VEVENT
DTSTART;TZID=Europe/Berlin:20250919T173000
DTEND;TZID=Europe/Berlin:20250919T184500
DTSTAMP:20260419T230128
CREATED:20251122T210959Z
LAST-MODIFIED:20251122T210959Z
UID:8738-1758303000-1758307500@vcreken.de
SUMMARY:Spieltag 1 der Damen 3
DESCRIPTION:VC Reken III vs. Raesfelder VG IISpieltag Nr. 1 der Damen 3 Zuhause
URL:https://vcreken.de/event/spieltag-1-der-damen-3/
LOCATION:Sporthalle Am Rathaus\, Kirchstraße 14\, Reken\, 48734\, Deutschland
CATEGORIES:Damen 3,Spieltag
END:VEVENT
END:VCALENDAR