BEGIN:VCALENDAR
VERSION:2.0
PRODID:-//VC Reken 1974 e.V. - ECPv6.15.20//NONSGML v1.0//EN
CALSCALE:GREGORIAN
METHOD:PUBLISH
X-ORIGINAL-URL:https://vcreken.de
X-WR-CALDESC:Veranstaltungen für VC Reken 1974 e.V.
REFRESH-INTERVAL;VALUE=DURATION:PT1H
X-Robots-Tag:noindex
X-PUBLISHED-TTL:PT1H
BEGIN:VTIMEZONE
TZID:Europe/Berlin
BEGIN:DAYLIGHT
TZOFFSETFROM:+0100
TZOFFSETTO:+0200
TZNAME:CEST
DTSTART:20250330T010000
END:DAYLIGHT
BEGIN:STANDARD
TZOFFSETFROM:+0200
TZOFFSETTO:+0100
TZNAME:CET
DTSTART:20251026T010000
END:STANDARD
BEGIN:DAYLIGHT
TZOFFSETFROM:+0100
TZOFFSETTO:+0200
TZNAME:CEST
DTSTART:20260329T010000
END:DAYLIGHT
BEGIN:STANDARD
TZOFFSETFROM:+0200
TZOFFSETTO:+0100
TZNAME:CET
DTSTART:20261025T010000
END:STANDARD
BEGIN:DAYLIGHT
TZOFFSETFROM:+0100
TZOFFSETTO:+0200
TZNAME:CEST
DTSTART:20270328T010000
END:DAYLIGHT
BEGIN:STANDARD
TZOFFSETFROM:+0200
TZOFFSETTO:+0100
TZNAME:CET
DTSTART:20271031T010000
END:STANDARD
END:VTIMEZONE
BEGIN:VEVENT
DTSTART;TZID=Europe/Berlin:20260222T150000
DTEND;TZID=Europe/Berlin:20260222T161500
DTSTAMP:20260421T163624
CREATED:20251122T210912Z
LAST-MODIFIED:20251122T210912Z
UID:8721-1771772400-1771776900@vcreken.de
SUMMARY:Spieltag 12 der Damen 1
DESCRIPTION:VC Reken vs. TV Jahn RheineSpieltag Nr. 12 der Damen 1 Zuhause
URL:https://vcreken.de/event/spieltag-12-der-damen-1/
LOCATION:Sporthalle Am Rathaus\, Kirchstraße 14\, Reken\, 48734\, Deutschland
CATEGORIES:Damen 1,Spieltag
END:VEVENT
END:VCALENDAR